BEGIN:VCALENDAR
VERSION:2.0
PRODID:-//Disabled Persons Protection Commission - ECPv6.15.20//NONSGML v1.0//EN
CALSCALE:GREGORIAN
METHOD:PUBLISH
X-ORIGINAL-URL:https://dppcmass.gov
X-WR-CALDESC:Events for Disabled Persons Protection Commission
REFRESH-INTERVAL;VALUE=DURATION:PT1H
X-Robots-Tag:noindex
X-PUBLISHED-TTL:PT1H
BEGIN:VTIMEZONE
TZID:America/New_York
BEGIN:DAYLIGHT
TZOFFSETFROM:-0500
TZOFFSETTO:-0400
TZNAME:EDT
DTSTART:20230312T070000
END:DAYLIGHT
BEGIN:STANDARD
TZOFFSETFROM:-0400
TZOFFSETTO:-0500
TZNAME:EST
DTSTART:20231105T060000
END:STANDARD
BEGIN:DAYLIGHT
TZOFFSETFROM:-0500
TZOFFSETTO:-0400
TZNAME:EDT
DTSTART:20240310T070000
END:DAYLIGHT
BEGIN:STANDARD
TZOFFSETFROM:-0400
TZOFFSETTO:-0500
TZNAME:EST
DTSTART:20241103T060000
END:STANDARD
BEGIN:DAYLIGHT
TZOFFSETFROM:-0500
TZOFFSETTO:-0400
TZNAME:EDT
DTSTART:20250309T070000
END:DAYLIGHT
BEGIN:STANDARD
TZOFFSETFROM:-0400
TZOFFSETTO:-0500
TZNAME:EST
DTSTART:20251102T060000
END:STANDARD
BEGIN:DAYLIGHT
TZOFFSETFROM:-0500
TZOFFSETTO:-0400
TZNAME:EDT
DTSTART:20260308T070000
END:DAYLIGHT
BEGIN:STANDARD
TZOFFSETFROM:-0400
TZOFFSETTO:-0500
TZNAME:EST
DTSTART:20261101T060000
END:STANDARD
BEGIN:DAYLIGHT
TZOFFSETFROM:-0500
TZOFFSETTO:-0400
TZNAME:EDT
DTSTART:20270314T070000
END:DAYLIGHT
BEGIN:STANDARD
TZOFFSETFROM:-0400
TZOFFSETTO:-0500
TZNAME:EST
DTSTART:20271107T060000
END:STANDARD
END:VTIMEZONE
BEGIN:VTIMEZONE
TZID:UTC
BEGIN:STANDARD
TZOFFSETFROM:+0000
TZOFFSETTO:+0000
TZNAME:UTC
DTSTART:20230101T000000
END:STANDARD
END:VTIMEZONE
BEGIN:VEVENT
DTSTART;TZID=America/New_York:20260311T153000
DTEND;TZID=America/New_York:20260311T170000
DTSTAMP:20260420T060111
CREATED:20260123T183646Z
LAST-MODIFIED:20260310T161454Z
UID:5484-1773243000-1773248400@dppcmass.gov
SUMMARY:DPPC Advisory Council
DESCRIPTION:DISABLED PERSONS PROTECTION COMMISSION (DPPC) \nDPPC Advisory Council \nMeeting Agenda \nDate    March 11\, 2026 \nTime    3:30 – 5:00 p.m. \n\nWelcome and Roll Call\nApproval of Meeting Minutes of December 3\, 2025\nDisability Community News – Announcements\nDPPC FY27 Budget\nBuilding Partnerships Initiative\nLegislation\nAbuser Registry\nInnovative Projects Update\nNew Business\nAdjournment\n\nPosted: January 23\, 2026 1:36 pm. \nUpdated: March 10\, 2026 12:01p \nFor additional information\, please contact Kathleen Barthe: \n\nemail: Kathleen.Barthe@mass.gov\nphone: (617) 727-6465\n\n 
URL:https://dppcmass.gov/event/dppc-advisory-council-8/
CATEGORIES:Public Meetings
END:VEVENT
BEGIN:VEVENT
DTSTART;TZID=America/New_York:20260311T130000
DTEND;TZID=America/New_York:20260311T143000
DTSTAMP:20260420T060111
CREATED:20260123T183711Z
LAST-MODIFIED:20260310T161911Z
UID:5482-1773234000-1773239400@dppcmass.gov
SUMMARY:SAR Advisory Council Meeting
DESCRIPTION:DISABLED PERSONS PROTECTION COMMISSION (DPPC) \nDPPC Sexual Assault Response (SAR) Team Advisory Council \nAgenda of March 11\, 2026 \n1:00 – 2:30 p.m. \n\nWelcome and Introductions\nApproval of Minutes of September 3\, 2025\nOverview of the DPPC Abuser Registry and Pending Legislation\nSAR Team Update\n\nInterface Update\n\n\nAnnouncements/Updates\nAdjournment\n\nPosted: January 23\, 2026 1:10 pm. \nUpdated: March 10\, 2026 12:04 pm. \nFor additional information\, please contact Kathleen Barthe: \n\nemail: Kathleen.Barthe@mass.gov\nphone: (617) 727-6465
URL:https://dppcmass.gov/event/sar-advisory-council-meeting-8/
CATEGORIES:Public Meetings
END:VEVENT
BEGIN:VEVENT
DTSTART;TZID=America/New_York:20260310T163000
DTEND;TZID=America/New_York:20260310T180000
DTSTAMP:20260420T060111
CREATED:20260310T170140Z
LAST-MODIFIED:20260310T170451Z
UID:5597-1773160200-1773165600@dppcmass.gov
SUMMARY:DPPC Commissioners’ Meeting
DESCRIPTION:March 10 @ 4:30 pm – 6:00 pm \nDISABLED PERSONS PROTECTION COMMISSION (DPPC) \nDPPC Commissioners’ Meeting Agenda \nAgenda of March 10\, 2026 \n\nPublic Comments\nApproval of Minutes of Meeting of December 2\, 2025\nDPPC FY2026\nDPPC FY2027\nState/Federal Funding/Requirements/Projects\nNew Business\nAdjournment\n\nPosted: January 23\, 2026 1:37 pm.  \nUpdated: March 10\, 2026 12:05 pm. \n\n\n\n\n\n\n\n\n\n\nFor additional information\, please contact Kathleen Barthe: \n\nemail: Kathleen.Barthe@mass.gov\nphone: (617) 727-6465
URL:https://dppcmass.gov/event/dppc-commissioners-meeting-10/
CATEGORIES:Public Meetings
END:VEVENT
BEGIN:VEVENT
DTSTART;TZID=America/New_York:20260310T163000
DTEND;TZID=America/New_York:20260310T180000
DTSTAMP:20260420T060111
CREATED:20260123T183729Z
LAST-MODIFIED:20260310T165929Z
UID:5480-1773160200-1773165600@dppcmass.gov
SUMMARY:DPPC Commissioners' Meeting
DESCRIPTION:DISABLED PERSONS PROTECTION COMMISSION (DPPC) \nDPPC Commissioners’ Meeting Agenda \nAgenda of March 10\, 2026 \n\nPublic Comments\nApproval of Minutes of Meeting of December 2\, 2025\nDPPC FY2026\nDPPC FY2027\nState/Federal Funding/Requirements/Projects\nNew Business\nAdjournment\n\nPosted: January 23\, 2026 1:37 pm.  \nUpdated: March 10\, 2026 12:05 pm. \n\n\n\n\n\n\n\n\n\n\nFor additional information\, please contact Kathleen Barthe: \n\nemail: Kathleen.Barthe@mass.gov\nphone: (617) 727-6465
URL:https://dppcmass.gov/event/dppc-commissioners-meeting-8/
CATEGORIES:Public Meetings
END:VEVENT
BEGIN:VEVENT
DTSTART;TZID=America/New_York:20251203T153000
DTEND;TZID=America/New_York:20251203T170000
DTSTAMP:20260420T060111
CREATED:20250121T233300Z
LAST-MODIFIED:20250227T152428Z
UID:3089-1764775800-1764781200@dppcmass.gov
SUMMARY:DPPC Advisory Council
DESCRIPTION:Posted: January 21\, 2025 at 1:29 pm.\n\n\n\n\n\n\n\n\n\n\n\nFor additional information\, please contact Kathleen Barthe: \n\nemail: Kathleen.Barthe@mass.gov\nphone: (617) 727-6465
URL:https://dppcmass.gov/event/dppc-advisory-council-4/
CATEGORIES:Public Meetings
END:VEVENT
BEGIN:VEVENT
DTSTART;TZID=America/New_York:20251203T130000
DTEND;TZID=America/New_York:20251203T143000
DTSTAMP:20260420T060111
CREATED:20250117T221845Z
LAST-MODIFIED:20250227T152445Z
UID:3080-1764766800-1764772200@dppcmass.gov
SUMMARY:SAR Advisory Council Meeting
DESCRIPTION:Posted: January 16\, 2025 at 1:40 pm.\n\n\n\n\n\n\n\n\n\n\n\nFor additional information\, please contact Kathleen Barthe: \n\nemail: Kathleen.Barthe@mass.gov\nphone: (617) 727-6465
URL:https://dppcmass.gov/event/sar-advisory-council-meeting-5/
CATEGORIES:Public Meetings
END:VEVENT
BEGIN:VEVENT
DTSTART;TZID=America/New_York:20251202T163000
DTEND;TZID=America/New_York:20251202T173000
DTSTAMP:20260420T060111
CREATED:20250117T221445Z
LAST-MODIFIED:20250227T152502Z
UID:3072-1764693000-1764696600@dppcmass.gov
SUMMARY:DPPC Commissioners' Meeting
DESCRIPTION:Posted: January 17\, 2025 12:12 pm. \n\n\n\n\n\n\n\n\n\n\n\nFor additional information\, please contact Kathleen Barthe: \n\nemail: Kathleen.Barthe@mass.gov\nphone: (617) 727-6465
URL:https://dppcmass.gov/event/dppc-commissioners-meeting-5/
CATEGORIES:Public Meetings
END:VEVENT
BEGIN:VEVENT
DTSTART;TZID=America/New_York:20250903T153000
DTEND;TZID=America/New_York:20250903T170000
DTSTAMP:20260420T060111
CREATED:20250121T233216Z
LAST-MODIFIED:20250227T152521Z
UID:3087-1756913400-1756918800@dppcmass.gov
SUMMARY:DPPC Advisory Council
DESCRIPTION:Posted: January 21\, 2025 at 1:29 pm.\n\n\n\n\n\n\n\n\n\n\n\nFor additional information\, please contact Kathleen Barthe: \n\nemail: Kathleen.Barthe@mass.gov\nphone: (617) 727-6465
URL:https://dppcmass.gov/event/dppc-advisory-council-3/
CATEGORIES:Public Meetings
END:VEVENT
BEGIN:VEVENT
DTSTART;TZID=America/New_York:20250903T130000
DTEND;TZID=America/New_York:20250903T143000
DTSTAMP:20260420T060111
CREATED:20250117T221735Z
LAST-MODIFIED:20250227T152539Z
UID:3078-1756904400-1756909800@dppcmass.gov
SUMMARY:SAR Advisory Council Meeting
DESCRIPTION:Posted: January 16\, 2025 at 12:15 pm.\n\n\n\n\n\n\n\n\n\n\n\nFor additional information\, please contact Kathleen Barthe: \n\nemail: Kathleen.Barthe@mass.gov\nphone: (617) 727-6465
URL:https://dppcmass.gov/event/sar-advisory-council-meeting-4/
CATEGORIES:Public Meetings
END:VEVENT
BEGIN:VEVENT
DTSTART;TZID=America/New_York:20250902T163000
DTEND;TZID=America/New_York:20250902T173000
DTSTAMP:20260420T060111
CREATED:20250117T221334Z
LAST-MODIFIED:20250227T152640Z
UID:3069-1756830600-1756834200@dppcmass.gov
SUMMARY:DPPC Commissioners' Meeting
DESCRIPTION:Posted: January 17\, 2025 12:12 pm. \n\n\n\n\n\n\n\n\n\n\n\nFor additional information\, please contact Kathleen Barthe: \n\nemail: Kathleen.Barthe@mass.gov\nphone: (617) 727-6465
URL:https://dppcmass.gov/event/dppc-commissioners-meeting-4/
CATEGORIES:Public Meetings
END:VEVENT
BEGIN:VEVENT
DTSTART;TZID=America/New_York:20250617T163000
DTEND;TZID=America/New_York:20250617T173000
DTSTAMP:20260420T060111
CREATED:20250117T221221Z
LAST-MODIFIED:20250418T182150Z
UID:3067-1750177800-1750181400@dppcmass.gov
SUMMARY:DPPC Commissioners' Meeting
DESCRIPTION:Posted: January 17\, 2025 12:12 pm. \nRevised April 18\, 2025 at 2:21 pm \n\n\n\n\n\n\n\n\n\n\n\nFor additional information\, please contact Kathleen Barthe: \n\nemail: Kathleen.Barthe@mass.gov\nphone: (617) 727-6465
URL:https://dppcmass.gov/event/dppc-commissioners-meeting-3/
CATEGORIES:Public Meetings
END:VEVENT
BEGIN:VEVENT
DTSTART;TZID=America/New_York:20250611T153000
DTEND;TZID=America/New_York:20250611T170000
DTSTAMP:20260420T060111
CREATED:20250121T233133Z
LAST-MODIFIED:20250227T155717Z
UID:3085-1749655800-1749661200@dppcmass.gov
SUMMARY:DPPC Advisory Council
DESCRIPTION:Posted: January 21\, 2025 at 1:29 pm.\n\n\n\n\n\n\n\n\n\n\n\nFor additional information\, please contact Kathleen Barthe: \n\nemail: Kathleen.Barthe@mass.gov\nphone: (617) 727-6465
URL:https://dppcmass.gov/event/dppc-advisory-council-2/
CATEGORIES:Public Meetings
END:VEVENT
BEGIN:VEVENT
DTSTART;TZID=America/New_York:20250611T130000
DTEND;TZID=America/New_York:20250611T143000
DTSTAMP:20260420T060111
CREATED:20250117T221654Z
LAST-MODIFIED:20250228T200852Z
UID:3076-1749646800-1749652200@dppcmass.gov
SUMMARY:SAR Advisory Council Meeting
DESCRIPTION:Posted: January 16\, 2025 at 12:15 pm.\n\n\n\n\n\n\n\n\n\n\n\nFor additional information\, please contact Kathleen Barthe: \n\nemail: Kathleen.Barthe@mass.gov\nphone: (617) 727-6465
URL:https://dppcmass.gov/event/sar-advisory-council-meeting-3/
CATEGORIES:Public Meetings
END:VEVENT
BEGIN:VEVENT
DTSTART;TZID=America/New_York:20250312T153000
DTEND;TZID=America/New_York:20250312T170000
DTSTAMP:20260420T060111
CREATED:20250121T233055Z
LAST-MODIFIED:20250227T160014Z
UID:3083-1741793400-1741798800@dppcmass.gov
SUMMARY:DPPC Advisory Council
DESCRIPTION:Posted: January 21\, 2025 at 1:29 pm.\n\n\n\n\n\n\n\n\n\n\n\nFor additional information\, please contact Kathleen Barthe: \n\nemail: Kathleen.Barthe@mass.gov\nphone: (617) 727-6465
URL:https://dppcmass.gov/event/dppc-advisory-council/
CATEGORIES:Public Meetings
END:VEVENT
BEGIN:VEVENT
DTSTART;TZID=America/New_York:20250312T130000
DTEND;TZID=America/New_York:20250312T143000
DTSTAMP:20260420T060111
CREATED:20250117T221607Z
LAST-MODIFIED:20250228T200811Z
UID:3074-1741784400-1741789800@dppcmass.gov
SUMMARY:SAR Advisory Council Meeting
DESCRIPTION:Posted: January 16\, 2025 at 12:15 pm.\n\n\n\n\n\n\n\n\n\n\n\nFor additional information\, please contact Kathleen Barthe: \n\nemail: Kathleen.Barthe@mass.gov\nphone: (617) 727-6465
URL:https://dppcmass.gov/event/sar-advisory-council-meeting-2/
CATEGORIES:Public Meetings
END:VEVENT
BEGIN:VEVENT
DTSTART;TZID=America/New_York:20250311T163000
DTEND;TZID=America/New_York:20250311T173000
DTSTAMP:20260420T060111
CREATED:20250117T221139Z
LAST-MODIFIED:20250227T160032Z
UID:3065-1741710600-1741714200@dppcmass.gov
SUMMARY:DPPC Commissioners' Meeting
DESCRIPTION:Posted: January 17\, 2024 12:10 pm. \n\n\n\n\n\n\n\n\n\n\n\nFor additional information\, please contact Kathleen Barthe: \n\nemail: Kathleen.Barthe@mass.gov\nphone: (617) 727-6465
URL:https://dppcmass.gov/event/dppc-commissioners-meeting-2/
CATEGORIES:Public Meetings
END:VEVENT
BEGIN:VEVENT
DTSTART;TZID=UTC:20241210T163000
DTEND;TZID=UTC:20241210T173000
DTSTAMP:20260420T060111
CREATED:20241026T005625Z
LAST-MODIFIED:20241203T010559Z
UID:2478-1733848200-1733851800@dppcmass.gov
SUMMARY:DPPC Commissioners' Meeting
DESCRIPTION:Posted: February 9\, 2024 1:33 pm \n\n\n\n\n\n\n\n\n\n\n\nFor additional information\, please contact Kathleen Barthe: \nemail: Kathleen.Barthe@mass.gov\nphone: (617) 727-6465
URL:https://dppcmass.gov/event/dppc-commissioners-meeting/
CATEGORIES:Public Meetings
END:VEVENT
BEGIN:VEVENT
DTSTART;TZID=America/New_York:20241210T140000
DTEND;TZID=America/New_York:20241210T153000
DTSTAMP:20260420T060111
CREATED:20241026T005450Z
LAST-MODIFIED:20241205T201343Z
UID:2476-1733839200-1733844600@dppcmass.gov
SUMMARY:DPPC Advisory Council Meeting
DESCRIPTION:Posted: February 13\, 2024 10:54 am\n\n\n\n\n\n\n\n\n\n\n\n\n\n\nFor additional information\, please contact Kathleen Barthe: \n\nemail: Kathleen.Barthe@mass.gov\nphone: (617) 727-6465
URL:https://dppcmass.gov/event/dppc-advisory-council-meeting/
CATEGORIES:Public Meetings
END:VEVENT
BEGIN:VEVENT
DTSTART;TZID=UTC:20241204T133000
DTEND;TZID=UTC:20241204T153000
DTSTAMP:20260420T060111
CREATED:20241026T005247Z
LAST-MODIFIED:20241205T201434Z
UID:2470-1733319000-1733326200@dppcmass.gov
SUMMARY:SAR Advisory Council Meeting
DESCRIPTION:Posted: February 13\, 2024 1:40 pm\n\n\n\n\n\n\n\n\n\n\n\nFor additional information\, please contact Kathleen Barthe: \n\nemail: Kathleen.Barthe@mass.gov\nphone: (617) 727-6465
URL:https://dppcmass.gov/event/sar-advisory-council-meeting/
CATEGORIES:Public Meetings
END:VEVENT
BEGIN:VEVENT
DTSTART;TZID=UTC:20241001T163000
DTEND;TZID=UTC:20241001T173000
DTSTAMP:20260420T060111
CREATED:20241028T211401Z
LAST-MODIFIED:20241203T010643Z
UID:2504-1727800200-1727803800@dppcmass.gov
SUMMARY:Commissioners' Meeting
DESCRIPTION:Posted: February 9\, 2024 1:24 pm \n\n\n\n\n\n\n\nFor additional information\, please contact Kathleen Barthe: \nemail: Kathleen.Barthe@mass.gov\nphone: (617) 727-6465
URL:https://dppcmass.gov/event/commissioners-meeting/
CATEGORIES:Public Meetings
END:VEVENT
END:VCALENDAR